BEGIN:VCALENDAR
VERSION:2.0
PRODID:-// - ECPv6.3.7//NONSGML v1.0//EN
CALSCALE:GREGORIAN
METHOD:PUBLISH
X-ORIGINAL-URL:https://tackleyscouts.com
X-WR-CALDESC:Events for 
REFRESH-INTERVAL;VALUE=DURATION:PT1H
X-Robots-Tag:noindex
X-PUBLISHED-TTL:PT1H
BEGIN:VTIMEZONE
TZID:Europe/Paris
BEGIN:DAYLIGHT
TZOFFSETFROM:+0100
TZOFFSETTO:+0200
TZNAME:CEST
DTSTART:20190331T010000
END:DAYLIGHT
BEGIN:STANDARD
TZOFFSETFROM:+0200
TZOFFSETTO:+0100
TZNAME:CET
DTSTART:20191027T010000
END:STANDARD
END:VTIMEZONE
BEGIN:VEVENT
DTSTART;TZID=Europe/Paris:20190323T094500
DTEND;TZID=Europe/Paris:20190323T124500
DTSTAMP:20260425T030725
CREATED:20190313T115537Z
LAST-MODIFIED:20190313T115859Z
UID:666-1553334300-1553345100@tackleyscouts.com
SUMMARY:Walk For Water
DESCRIPTION:Beavers\, Cubs and Scouts are doing a sponsored walk to raise money for Water Aid and their vital work around the world. Please help us reach our fund-raising goal by sponsoring us and encouraging friends/family/neighbours to do the same. \n\nTweet
URL:https://tackleyscouts.com/event/walk-for-water
LOCATION:Tackley Village Hall
CATEGORIES:Community,Fundraising
ATTACH;FMTTYPE=image/jpeg:https://tackleyscouts.com/wp-content/uploads/2019/03/PHOTO-2019-02-27-20-24-41.jpg
END:VEVENT
END:VCALENDAR